BEGIN:VCALENDAR
VERSION:2.0
PRODID:-//wp-events-plugin.com//6.4.7.1//EN
BEGIN:VEVENT
UID:7@59shopband.com
DTSTART:20250815T200000Z
DTEND:20250815T223000Z
DTSTAMP:20250714T194100Z
URL:https://59shopband.com/events/59-shop-at-guanabanas/
SUMMARY:59 Shop at Guanabanas!
DESCRIPTION:59 Shop returns to Guanabanas for a night of original music and
  tasteful covers. The boys use inspiration from multiple genres to get peo
 ple grooving! Check them out Friday\, August 15 at 8pm.
ATTACH;FMTTYPE=image/jpeg:https://59shopband.com/wp-content/uploads/2025/0
 7/509430616_1398346021209313_1763894796406393036_n.jpg
LOCATION:Guanabanas\, 960 N Hwy A1A\, Jupiter\, Florida\, 33477\, United St
 ates
X-APPLE-STRUCTURED-LOCATION;VALUE=URI;X-ADDRESS=960 N Hwy A1A\, Jupiter\, F
 lorida\, 33477\, United States;X-APPLE-RADIUS=100;X-TITLE=Guanabanas:geo:0
 ,0
END:VEVENT
END:VCALENDAR