BEGIN:VCALENDAR
VERSION:2.0
PRODID:-//wp-events-plugin.com//6.4.7.1//EN
BEGIN:VEVENT
UID:1@59shopband.com
DTSTART:20240322T200000Z
DTEND:20240322T230000Z
DTSTAMP:20240320T171958Z
URL:https://59shopband.com/events/59-shop-at-fish-depot/
SUMMARY:59 Shop at Fish Depot
DESCRIPTION:&nbsp\;\n\n\n\n\n\n\n
LOCATION:Fish Depot\, 511 NE 4th St\, Boynton Beach\, FL 33435\, Boynton Be
 ach\, United States
X-APPLE-STRUCTURED-LOCATION;VALUE=URI;X-ADDRESS=511 NE 4th St\, Boynton Bea
 ch\, FL 33435\, Boynton Beach\, United States;X-APPLE-RADIUS=100;X-TITLE=F
 ish Depot:geo:0,0
END:VEVENT
END:VCALENDAR