BEGIN:VCALENDAR
VERSION:2.0
PRODID:-//wp-events-plugin.com//6.4.7.1//EN
BEGIN:VEVENT
UID:4@59shopband.com
DTSTART:20240529T200000Z
DTEND:20240529T233000Z
DTSTAMP:20240429T211225Z
URL:https://59shopband.com/events/59-shop-at-crazy-uncle-mikes/
SUMMARY:59 Shop at Crazy Uncle Mike's
DESCRIPTION:
LOCATION:Crazy Uncle Mike's\, 6450 N Federal Hwy\, Boca Raton\, Florida\, 3
 3487\, United States
X-APPLE-STRUCTURED-LOCATION;VALUE=URI;X-ADDRESS=6450 N Federal Hwy\, Boca R
 aton\, Florida\, 33487\, United States;X-APPLE-RADIUS=100;X-TITLE=Crazy Un
 cle Mike's:geo:0,0
END:VEVENT
END:VCALENDAR