BEGIN:VCALENDAR
VERSION:2.0
PRODID:-//wp-events-plugin.com//6.4.7.1//EN
BEGIN:VEVENT
UID:8@59shopband.com
DTSTART:20251024T190000Z
DTEND:20251024T220000Z
DTSTAMP:20251022T135538Z
URL:https://59shopband.com/events/59-shop-at-banana-boat-2/
SUMMARY:59 Shop at Banana Boat
DESCRIPTION:
ATTACH;FMTTYPE=image/jpeg:https://59shopband.com/wp-content/uploads/2025/1
 0/59-Shop-4.png
LOCATION:Banana Boat\, 739 E Ocean Ave\, Boynton Beach\, Florida\, 33435\, 
 United States
X-APPLE-STRUCTURED-LOCATION;VALUE=URI;X-ADDRESS=739 E Ocean Ave\, Boynton B
 each\, Florida\, 33435\, United States;X-APPLE-RADIUS=100;X-TITLE=Banana B
 oat:geo:0,0
END:VEVENT
END:VCALENDAR