BEGIN:VCALENDAR
VERSION:2.0
PRODID:-//wp-events-plugin.com//6.4.7.1//EN
BEGIN:VEVENT
UID:3@59shopband.com
DTSTART:20240510T210000Z
DTEND:20240510T234500Z
DTSTAMP:20240429T210836Z
URL:https://59shopband.com/events/59-shop-at-atlantic-avenue-yacht-club/
SUMMARY:59 Shop at Atlantic Avenue Yacht Club
DESCRIPTION:
LOCATION:Atlantic Avenue Yacht Club\, 2 E Atlantic Ave\, Delray Beach\, Flo
 rida \, 33444\, United States
X-APPLE-STRUCTURED-LOCATION;VALUE=URI;X-ADDRESS=2 E Atlantic Ave\, Delray B
 each\, Florida \, 33444\, United States;X-APPLE-RADIUS=100;X-TITLE=Atlanti
 c Avenue Yacht Club:geo:0,0
END:VEVENT
END:VCALENDAR